BEGIN:VCALENDAR
PRODID:-//spiritec//spiritec media library//EN
VERSION:2.0
METHOD:PUBLISH
BEGIN:VEVENT
UID:ical-2025-02-15-2567
DTSTART:20250215T090000Z
DTSTAMP:20260424T195119Z
LOCATION:Café Central
SUMMARY:Verkleidungen mit Bühnenflair
DESCRIPTION:Das Café Central befindet sich im Grillo-Theater.\n\nGrillo-Theater\nTheaterplatz 11 \n45127 Essen
CREATED:20260424T195119Z
DTEND:20250215T090000Z
END:VEVENT
END:VCALENDAR
