BEGIN:VCALENDAR
PRODID:-//spiritec//spiritec media library//EN
VERSION:2.0
METHOD:PUBLISH
BEGIN:VEVENT
UID:ical-2025-03-21-2576
DTSTART:20250321T130000Z
DTSTAMP:20260424T194924Z
LOCATION:Aalto-Cafeteria
SUMMARY:Keynote: „Pionierinnen! – Pionierinnen?”
DESCRIPTION:Aalto-Theater\nOpernplatz 10\n45128 Essen
CREATED:20260424T194924Z
DTEND:20250321T140000Z
END:VEVENT
END:VCALENDAR
