BEGIN:VCALENDAR
PRODID:-//spiritec//spiritec media library//EN
VERSION:2.0
METHOD:PUBLISH
BEGIN:VEVENT
UID:ical-2025-03-21-2578
DTSTART:20250321T151500Z
DTSTAMP:20260424T195154Z
LOCATION:Aalto-Foyer
SUMMARY:Gesprächskonzert zu Maria Herz: „Zwischen Manchester, Köln und Birmingham“
DESCRIPTION:Aalto-Theater\nOpernplatz 10\n45128 Essen
CREATED:20260424T195154Z
DTEND:20250321T163000Z
END:VEVENT
END:VCALENDAR
