BEGIN:VCALENDAR
PRODID:-//spiritec//spiritec media library//EN
VERSION:2.0
METHOD:PUBLISH
BEGIN:VEVENT
UID:ical-2025-03-22-2580
DTSTART:20250322T120000Z
DTSTAMP:20260424T195045Z
LOCATION:Aalto-Foyer
SUMMARY:Gesprächsrunde: Vom Dachboden auf die Bühne
DESCRIPTION:Aalto-Theater\nOpernplatz 10\n45128 Essen
CREATED:20260424T195045Z
DTEND:20250322T133000Z
END:VEVENT
END:VCALENDAR
