BEGIN:VCALENDAR
PRODID:-//spiritec//spiritec media library//EN
VERSION:2.0
METHOD:PUBLISH
BEGIN:VEVENT
UID:ical-2025-03-20-2582
DTSTART:20250320T183000Z
DTSTAMP:20260424T194949Z
LOCATION:Musiktheater im Revier, Großes Haus
SUMMARY:Innocence
DESCRIPTION:
CREATED:20260424T194949Z
DTEND:20250320T225900Z
END:VEVENT
END:VCALENDAR
