BEGIN:VCALENDAR
PRODID:-//spiritec//spiritec media library//EN
VERSION:2.0
METHOD:PUBLISH
BEGIN:VEVENT
UID:ical-2025-03-09-2587
DTSTART:20250309T170000Z
DTSTAMP:20260424T195045Z
LOCATION:ADA
SUMMARY:Showtime (ein enttäuschender Abend)
DESCRIPTION:Die ADA befindet sich im Grillo-Theater.\n\nGrillo-Theater\nTheaterplatz 11 \n45127 Essen
CREATED:20260424T195045Z
DTEND:20250309T181500Z
END:VEVENT
END:VCALENDAR
