BEGIN:VCALENDAR
PRODID:-//spiritec//spiritec media library//EN
VERSION:2.0
METHOD:PUBLISH
BEGIN:VEVENT
UID:ical-2025-03-21-2592
DTSTART:20250321T190000Z
DTSTAMP:20260424T195045Z
LOCATION:ADA
SUMMARY:Tabak
DESCRIPTION:Die ADA befindet sich im Grillo-Theater.\n\nGrillo-Theater\nTheaterplatz 11 \n45127 Essen
CREATED:20260424T195045Z
DTEND:20250321T203000Z
END:VEVENT
END:VCALENDAR
