BEGIN:VCALENDAR
PRODID:-//spiritec//spiritec media library//EN
VERSION:2.0
METHOD:PUBLISH
BEGIN:VEVENT
UID:ical-2025-10-15-2619
DTSTART:20251015T173000Z
DTSTAMP:20260424T195112Z
LOCATION:NATIONAL-BANK Pavillon
SUMMARY:28. Boogie Woogie Congress in Concert
DESCRIPTION:NATIONAL-BANK Pavillon\nPhilharmonie Essen\nHuyssenallee 53\n45128 Essen
CREATED:20260424T195112Z
DTEND:20251015T173000Z
END:VEVENT
END:VCALENDAR
