BEGIN:VCALENDAR
PRODID:-//spiritec//spiritec media library//EN
VERSION:2.0
METHOD:PUBLISH
BEGIN:VEVENT
UID:ical-2025-04-03-2641
DTSTART:20250403T170000Z
DTSTAMP:20260424T194923Z
LOCATION:Maschinenhaus Essen
SUMMARY:nicht allein | nem egyedül | not alone | yalnız değil | no solo
DESCRIPTION:Maschinenhaus Essen\nWilhelm-Nieswandt-Allee 100\n45326 Essen
CREATED:20260424T194923Z
DTEND:20250403T181000Z
END:VEVENT
END:VCALENDAR
