BEGIN:VCALENDAR
PRODID:-//spiritec//spiritec media library//EN
VERSION:2.0
METHOD:PUBLISH
BEGIN:VEVENT
UID:ical-2025-04-04-2643
DTSTART:20250404T173000Z
DTSTAMP:20260424T195118Z
LOCATION:Schlosstheater Moers
SUMMARY:Der Bau
DESCRIPTION:
CREATED:20260424T195118Z
DTEND:20250404T215900Z
END:VEVENT
END:VCALENDAR
