BEGIN:VCALENDAR
PRODID:-//spiritec//spiritec media library//EN
VERSION:2.0
METHOD:PUBLISH
BEGIN:VEVENT
UID:ical-2026-06-06-2694
DTSTART:20260606T170000Z
DTSTAMP:20260423T162104Z
LOCATION:Alfried Krupp Saal
SUMMARY:Spielzeit­präsentationen der Essener Philharmoniker und  der Philharmonie Essen
DESCRIPTION:Alfried Krupp Saal\nPhilharmonie Essen\nHuyssenallee 53\n45128 Essen
CREATED:20260423T162104Z
DTEND:20260606T215900Z
END:VEVENT
END:VCALENDAR
