BEGIN:VCALENDAR
PRODID:-//spiritec//spiritec media library//EN
VERSION:2.0
METHOD:PUBLISH
BEGIN:VEVENT
UID:ical-2026-06-10-2697
DTSTART:20260610T173000Z
DTSTAMP:20260423T161832Z
LOCATION:Aalto-Theater
SUMMARY:Spielzeitpräsentationen des Aalto Musiktheaters und des Aalto Ballett Essen
DESCRIPTION:Aalto-Theater\nOpernplatz 10\n45128 Essen
CREATED:20260423T161832Z
DTEND:20260610T215900Z
END:VEVENT
END:VCALENDAR
