BEGIN:VCALENDAR
PRODID:-//spiritec//spiritec media library//EN
VERSION:2.0
METHOD:PUBLISH
BEGIN:VEVENT
UID:ical-2026-06-02-2698
DTSTART:20260602T173000Z
DTSTAMP:20260423T162423Z
LOCATION:Grillo-Theater
SUMMARY:Spielzeitpräsentation des Schauspiel Essen
DESCRIPTION:Grillo-Theater\nTheaterplatz 11 \n45127 Essen
CREATED:20260423T162423Z
DTEND:20260602T215900Z
END:VEVENT
END:VCALENDAR
