BEGIN:VCALENDAR
PRODID:-//spiritec//spiritec media library//EN
VERSION:2.0
METHOD:PUBLISH
BEGIN:VEVENT
UID:ical-2026-03-21-2804
DTSTART:20260321T180000Z
DTSTAMP:20260424T194910Z
LOCATION:Aalto-Theater
SUMMARY:Carmen
DESCRIPTION:Aalto-Theater\nOpernplatz 10\n45128 Essen
CREATED:20260424T194910Z
DTEND:20260321T195000Z
END:VEVENT
END:VCALENDAR
