BEGIN:VCALENDAR
PRODID:-//spiritec//spiritec media library//EN
VERSION:2.0
METHOD:PUBLISH
BEGIN:VEVENT
UID:ical-2026-05-25-2808
DTSTART:20260525T160000Z
DTSTAMP:20260424T194908Z
LOCATION:Aalto-Theater
SUMMARY:Carmen
DESCRIPTION:Aalto-Theater\nOpernplatz 10\n45128 Essen
CREATED:20260424T194908Z
DTEND:20260525T175000Z
END:VEVENT
END:VCALENDAR
