BEGIN:VCALENDAR
PRODID:-//spiritec//spiritec media library//EN
VERSION:2.0
METHOD:PUBLISH
BEGIN:VEVENT
UID:ical-2026-06-11-2810
DTSTART:20260611T173000Z
DTSTAMP:20260424T194949Z
LOCATION:Aalto-Theater
SUMMARY:Carmen
DESCRIPTION:Aalto-Theater\nOpernplatz 10\n45128 Essen
CREATED:20260424T194949Z
DTEND:20260611T192000Z
END:VEVENT
END:VCALENDAR
