BEGIN:VCALENDAR
PRODID:-//spiritec//spiritec media library//EN
VERSION:2.0
METHOD:PUBLISH
BEGIN:VEVENT
UID:ical-2025-12-18-2813
DTSTART:20251218T183000Z
DTSTAMP:20260424T194801Z
LOCATION:Aalto-Theater
SUMMARY:Cinderella
DESCRIPTION:Aalto-Theater\nOpernplatz 10\n45128 Essen
CREATED:20260424T194801Z
DTEND:20251218T204500Z
END:VEVENT
END:VCALENDAR
