BEGIN:VCALENDAR
PRODID:-//spiritec//spiritec media library//EN
VERSION:2.0
METHOD:PUBLISH
BEGIN:VEVENT
UID:ical-2025-12-30-2817
DTSTART:20251230T183000Z
DTSTAMP:20260424T195111Z
LOCATION:Aalto-Theater
SUMMARY:Cinderella
DESCRIPTION:Aalto-Theater\nOpernplatz 10\n45128 Essen
CREATED:20260424T195111Z
DTEND:20251230T204500Z
END:VEVENT
END:VCALENDAR
