BEGIN:VCALENDAR
PRODID:-//spiritec//spiritec media library//EN
VERSION:2.0
METHOD:PUBLISH
BEGIN:VEVENT
UID:ical-2026-02-21-2820
DTSTART:20260221T180000Z
DTSTAMP:20260424T195118Z
LOCATION:Aalto-Theater
SUMMARY:Cinderella
DESCRIPTION:Aalto-Theater\nOpernplatz 10\n45128 Essen
CREATED:20260424T195118Z
DTEND:20260221T201500Z
END:VEVENT
END:VCALENDAR
