BEGIN:VCALENDAR
PRODID:-//spiritec//spiritec media library//EN
VERSION:2.0
METHOD:PUBLISH
BEGIN:VEVENT
UID:ical-2025-10-19-2919
DTSTART:20251019T143000Z
DTSTAMP:20260424T195045Z
LOCATION:Aalto-Theater
SUMMARY:Turandot
DESCRIPTION:Aalto-Theater\nOpernplatz 10\n45128 Essen
CREATED:20260424T195045Z
DTEND:20251019T170000Z
END:VEVENT
END:VCALENDAR
