BEGIN:VCALENDAR
PRODID:-//spiritec//spiritec media library//EN
VERSION:2.0
METHOD:PUBLISH
BEGIN:VEVENT
UID:ical-2026-06-10-2925
DTSTART:20260610T090000Z
DTSTAMP:20260424T194951Z
LOCATION:Aalto-Theater
SUMMARY:Die verzauberte Stadt
DESCRIPTION:Aalto-Theater\nOpernplatz 10\n45128 Essen
CREATED:20260424T194951Z
DTEND:20260610T090000Z
END:VEVENT
END:VCALENDAR
