BEGIN:VCALENDAR
PRODID:-//spiritec//spiritec media library//EN
VERSION:2.0
METHOD:PUBLISH
BEGIN:VEVENT
UID:ical-2026-05-11-2951
DTSTART:20260511T173000Z
DTSTAMP:20260424T195113Z
LOCATION:Aalto-Foyer
SUMMARY:Blaue Stunde
DESCRIPTION:Aalto-Theater\nOpernplatz 10\n45128 Essen
CREATED:20260424T195113Z
DTEND:20260511T190000Z
END:VEVENT
END:VCALENDAR
