BEGIN:VCALENDAR
PRODID:-//spiritec//spiritec media library//EN
VERSION:2.0
METHOD:PUBLISH
BEGIN:VEVENT
UID:ical-2025-12-05-2986
DTSTART:20251205T153000Z
DTSTAMP:20260424T194759Z
LOCATION:Aalto-Cafeteria
SUMMARY:It's Teatime - Die Herrschaften laden zum Tee
DESCRIPTION:Aalto-Theater\nOpernplatz 10\n45128 Essen
CREATED:20260424T194759Z
DTEND:20251205T163000Z
END:VEVENT
END:VCALENDAR
