BEGIN:VCALENDAR
PRODID:-//spiritec//spiritec media library//EN
VERSION:2.0
METHOD:PUBLISH
BEGIN:VEVENT
UID:ical-2026-01-11-3026
DTSTART:20260111T153000Z
DTSTAMP:20260424T195153Z
LOCATION:Aalto-Theater
SUMMARY:Wiener Blut
DESCRIPTION:Aalto-Theater\nOpernplatz 10\n45128 Essen
CREATED:20260424T195153Z
DTEND:20260111T183000Z
END:VEVENT
END:VCALENDAR
