BEGIN:VCALENDAR
PRODID:-//spiritec//spiritec media library//EN
VERSION:2.0
METHOD:PUBLISH
BEGIN:VEVENT
UID:ical-2025-11-28-3029
DTSTART:20251128T170000Z
DTSTAMP:20260424T195117Z
LOCATION:Aalto-Theater
SUMMARY:Öffentlicher Probenbesuch zu „Cardillac“
DESCRIPTION:Aalto-Theater\nOpernplatz 10\n45128 Essen
CREATED:20260424T195117Z
DTEND:20251128T183000Z
END:VEVENT
END:VCALENDAR
