BEGIN:VCALENDAR
PRODID:-//spiritec//spiritec media library//EN
VERSION:2.0
METHOD:PUBLISH
BEGIN:VEVENT
UID:ical-2026-05-23-3032
DTSTART:20260523T080000Z
DTSTAMP:20260424T195113Z
LOCATION:Aalto-Theater
SUMMARY:Öffentlicher Probenbesuch zu „Die verzauberte Stadt“
DESCRIPTION:Aalto-Theater\nOpernplatz 10\n45128 Essen
CREATED:20260424T195113Z
DTEND:20260523T093000Z
END:VEVENT
END:VCALENDAR
