BEGIN:VCALENDAR
PRODID:-//spiritec//spiritec media library//EN
VERSION:2.0
METHOD:PUBLISH
BEGIN:VEVENT
UID:ical-2027-01-30-3821
DTSTART:20270130T190000Z
DTSTAMP:20260424T141825Z
LOCATION:Ganzes Haus (Philharmonie)
SUMMARY:Philharmonischer Ball \n2027
DESCRIPTION:
CREATED:20260424T141825Z
DTEND:20270130T190000Z
END:VEVENT
END:VCALENDAR
