BEGIN:VCALENDAR
PRODID:-//spiritec//spiritec media library//EN
VERSION:2.0
METHOD:PUBLISH
BEGIN:VEVENT
UID:ical-2026-09-25-3822
DTSTART:20260924T220000Z
DTSTAMP:20260421T140917Z
LOCATION:Grillo-Theater
SUMMARY:Stahlgipfel
DESCRIPTION:Grillo-Theater\nTheaterplatz 11 \n45127 Essen
CREATED:20260421T140917Z
DTEND:20260924T220000Z
END:VEVENT
END:VCALENDAR
