BEGIN:VCALENDAR
PRODID:-//spiritec//spiritec media library//EN
VERSION:2.0
METHOD:PUBLISH
BEGIN:VEVENT
UID:ical-2026-09-26-3823
DTSTART:20260926T173000Z
DTSTAMP:20260421T141525Z
LOCATION:Grillo-Theater
SUMMARY:Stahlgipfel
DESCRIPTION:Grillo-Theater\nTheaterplatz 11 \n45127 Essen
CREATED:20260421T141525Z
DTEND:20260926T173000Z
END:VEVENT
END:VCALENDAR
